BEGIN:VCALENDAR
VERSION:2.0
PRODID:-//NEWWA - ECPv6.15.20//NONSGML v1.0//EN
CALSCALE:GREGORIAN
METHOD:PUBLISH
X-WR-CALNAME:NEWWA
X-ORIGINAL-URL:https://www.newwa.org
X-WR-CALDESC:Events for NEWWA
REFRESH-INTERVAL;VALUE=DURATION:PT1H
X-Robots-Tag:noindex
X-PUBLISHED-TTL:PT1H
BEGIN:VTIMEZONE
TZID:America/New_York
BEGIN:DAYLIGHT
TZOFFSETFROM:-0500
TZOFFSETTO:-0400
TZNAME:EDT
DTSTART:20240310T070000
END:DAYLIGHT
BEGIN:STANDARD
TZOFFSETFROM:-0400
TZOFFSETTO:-0500
TZNAME:EST
DTSTART:20241103T060000
END:STANDARD
BEGIN:DAYLIGHT
TZOFFSETFROM:-0500
TZOFFSETTO:-0400
TZNAME:EDT
DTSTART:20250309T070000
END:DAYLIGHT
BEGIN:STANDARD
TZOFFSETFROM:-0400
TZOFFSETTO:-0500
TZNAME:EST
DTSTART:20251102T060000
END:STANDARD
BEGIN:DAYLIGHT
TZOFFSETFROM:-0500
TZOFFSETTO:-0400
TZNAME:EDT
DTSTART:20260308T070000
END:DAYLIGHT
BEGIN:STANDARD
TZOFFSETFROM:-0400
TZOFFSETTO:-0500
TZNAME:EST
DTSTART:20261101T060000
END:STANDARD
END:VTIMEZONE
BEGIN:VEVENT
DTSTART;TZID=America/New_York:20250710T140000
DTEND;TZID=America/New_York:20250710T143000
DTSTAMP:20260420T051325
CREATED:20250605T134136Z
LAST-MODIFIED:20250605T134136Z
UID:37234-1752156000-1752157800@www.newwa.org
SUMMARY:Organizational Diversity Committee Meeting
DESCRIPTION:For Zoom credentials please contact Mary Quigley.
URL:https://www.newwa.org/committee-event/organizational-diversity-committee-meeting-2/
END:VEVENT
BEGIN:VEVENT
DTSTART;TZID=America/New_York:20250627T120000
DTEND;TZID=America/New_York:20250627T123000
DTSTAMP:20260420T051325
CREATED:20250605T134428Z
LAST-MODIFIED:20250605T134428Z
UID:37235-1751025600-1751027400@www.newwa.org
SUMMARY:Water For People Committee Meeting
DESCRIPTION:For Zoom credentials please contact Mary Quigley.
URL:https://www.newwa.org/committee-event/water-for-people-committee-meeting/
END:VEVENT
BEGIN:VEVENT
DTSTART;TZID=America/New_York:20250616T120000
DTEND;TZID=America/New_York:20250616T123000
DTSTAMP:20260420T051325
CREATED:20250605T130143Z
LAST-MODIFIED:20250605T130143Z
UID:37229-1750075200-1750077000@www.newwa.org
SUMMARY:Young Professionals Committee Meeting
DESCRIPTION:For Zoom credentials please contact Mary Quigley.
URL:https://www.newwa.org/committee-event/young-professionals-committee-meeting-2/
END:VEVENT
BEGIN:VEVENT
DTSTART;TZID=America/New_York:20250613T100000
DTEND;TZID=America/New_York:20250613T103000
DTSTAMP:20260420T051325
CREATED:20250605T131332Z
LAST-MODIFIED:20250605T131332Z
UID:37230-1749808800-1749810600@www.newwa.org
SUMMARY:Membership Committee Meeting
DESCRIPTION:For Zoom credentials please contact Mary Quigley.
URL:https://www.newwa.org/committee-event/membership-committee-meeting/
END:VEVENT
BEGIN:VEVENT
DTSTART;TZID=America/New_York:20250612T143000
DTEND;TZID=America/New_York:20250612T150000
DTSTAMP:20260420T051325
CREATED:20250605T133030Z
LAST-MODIFIED:20250605T133030Z
UID:37233-1749738600-1749740400@www.newwa.org
SUMMARY:Information and Operation Technology Committee
DESCRIPTION:Join the IT/OT Committee members to build the program for the 2025 NEWWA/NEWEA IT and Asset Management Fair. For Zoom credentials please contact Mary Quigley.
URL:https://www.newwa.org/committee-event/information-and-operation-technology-committee/
END:VEVENT
BEGIN:VEVENT
DTSTART;TZID=America/New_York:20250612T140000
DTEND;TZID=America/New_York:20250612T143000
DTSTAMP:20260420T051325
CREATED:20250605T131827Z
LAST-MODIFIED:20250605T131827Z
UID:37232-1749736800-1749738600@www.newwa.org
SUMMARY:Organizational Diversity Committee Meeting
DESCRIPTION:For Zoom credentials please contact Mary Quigley.
URL:https://www.newwa.org/committee-event/organizational-diversity-committee-meeting/
END:VEVENT
BEGIN:VEVENT
DTSTART;TZID=America/New_York:20250612T083000
DTEND;TZID=America/New_York:20250612T090000
DTSTAMP:20260420T051325
CREATED:20250605T131705Z
LAST-MODIFIED:20250605T131705Z
UID:37231-1749717000-1749718800@www.newwa.org
SUMMARY:Program Committee Meeting
DESCRIPTION:For details on committee membership\, please contact Mary Quigley.
URL:https://www.newwa.org/committee-event/program-committee-meeting/
END:VEVENT
BEGIN:VEVENT
DTSTART;TZID=America/New_York:20250610T100000
DTEND;TZID=America/New_York:20250610T103000
DTSTAMP:20260420T051325
CREATED:20250515T184458Z
LAST-MODIFIED:20250515T184458Z
UID:37080-1749549600-1749551400@www.newwa.org
SUMMARY:Laboratory Operations Committee Meeting
DESCRIPTION:Join the Lab Ops Committee to discuss future plans for the Lab Ops Symposium and training course topics. For Zoom credentials please contact Hannah Lee.
URL:https://www.newwa.org/committee-event/laboratory-operations-committee-meeting/
ORGANIZER;CN="Hannah Lee":MAILTO:hlee@newwa.org
END:VEVENT
BEGIN:VEVENT
DTSTART;TZID=America/New_York:20250519T120000
DTEND;TZID=America/New_York:20250519T123000
DTSTAMP:20260420T051325
CREATED:20250506T164625Z
LAST-MODIFIED:20250506T164625Z
UID:36945-1747656000-1747657800@www.newwa.org
SUMMARY:Young Professionals Committee Meeting
DESCRIPTION:Young Professionals Committee Monthly Meeting\nContact Mary Quigley at mquigley@newwa.org for the meeting event invitation and meeting access.
URL:https://www.newwa.org/committee-event/young-professionals-committee-meeting/
ORGANIZER;CN="Mary Quigley":MAILTO:mquigley@newwa.org
END:VEVENT
END:VCALENDAR